BEGIN:VCALENDAR
VERSION:2.0
PRODID:-//Au Traouquet - ECPv5.14.1//NONSGML v1.0//EN
CALSCALE:GREGORIAN
METHOD:PUBLISH
X-WR-CALNAME:Au Traouquet
X-ORIGINAL-URL:https://www.autraouquet.fr
X-WR-CALDESC:Events for Au Traouquet
REFRESH-INTERVAL;VALUE=DURATION:PT1H
X-Robots-Tag:noindex
X-PUBLISHED-TTL:PT1H
BEGIN:VTIMEZONE
TZID:Europe/Paris
BEGIN:DAYLIGHT
TZOFFSETFROM:+0100
TZOFFSETTO:+0200
TZNAME:CEST
DTSTART:20260329T010000
END:DAYLIGHT
BEGIN:STANDARD
TZOFFSETFROM:+0200
TZOFFSETTO:+0100
TZNAME:CET
DTSTART:20261025T010000
END:STANDARD
END:VTIMEZONE
BEGIN:VEVENT
DTSTART;TZID=Europe/Paris:20260420T160000
DTEND;TZID=Europe/Paris:20260420T190000
DTSTAMP:20260420T182125
CREATED:20251202T122650Z
LAST-MODIFIED:20251202T122650Z
UID:3733-1776700800-1776711600@www.autraouquet.fr
SUMMARY:Jeu d'échecs
DESCRIPTION:
URL:https://www.autraouquet.fr/event/jeu-dechecs/2026-04-20/
ORGANIZER;CN="Au%20Traouquet":MAILTO:autraouquet@gmail.com
END:VEVENT
BEGIN:VEVENT
DTSTART;TZID=Europe/Paris:20260427T160000
DTEND;TZID=Europe/Paris:20260427T190000
DTSTAMP:20260420T182125
CREATED:20251202T122650Z
LAST-MODIFIED:20251202T122650Z
UID:3734-1777305600-1777316400@www.autraouquet.fr
SUMMARY:Jeu d'échecs
DESCRIPTION:
URL:https://www.autraouquet.fr/event/jeu-dechecs/2026-04-27/
ORGANIZER;CN="Au%20Traouquet":MAILTO:autraouquet@gmail.com
END:VEVENT
BEGIN:VEVENT
DTSTART;TZID=Europe/Paris:20260504T160000
DTEND;TZID=Europe/Paris:20260504T190000
DTSTAMP:20260420T182125
CREATED:20251202T122650Z
LAST-MODIFIED:20251202T122650Z
UID:3735-1777910400-1777921200@www.autraouquet.fr
SUMMARY:Jeu d'échecs
DESCRIPTION:
URL:https://www.autraouquet.fr/event/jeu-dechecs/2026-05-04/
ORGANIZER;CN="Au%20Traouquet":MAILTO:autraouquet@gmail.com
END:VEVENT
BEGIN:VEVENT
DTSTART;TZID=Europe/Paris:20260511T160000
DTEND;TZID=Europe/Paris:20260511T190000
DTSTAMP:20260420T182125
CREATED:20251202T122650Z
LAST-MODIFIED:20251202T122650Z
UID:3736-1778515200-1778526000@www.autraouquet.fr
SUMMARY:Jeu d'échecs
DESCRIPTION:
URL:https://www.autraouquet.fr/event/jeu-dechecs/2026-05-11/
ORGANIZER;CN="Au%20Traouquet":MAILTO:autraouquet@gmail.com
END:VEVENT
BEGIN:VEVENT
DTSTART;TZID=Europe/Paris:20260518T160000
DTEND;TZID=Europe/Paris:20260518T190000
DTSTAMP:20260420T182125
CREATED:20251202T122650Z
LAST-MODIFIED:20251202T122650Z
UID:3737-1779120000-1779130800@www.autraouquet.fr
SUMMARY:Jeu d'échecs
DESCRIPTION:
URL:https://www.autraouquet.fr/event/jeu-dechecs/2026-05-18/
ORGANIZER;CN="Au%20Traouquet":MAILTO:autraouquet@gmail.com
END:VEVENT
BEGIN:VEVENT
DTSTART;TZID=Europe/Paris:20260525T160000
DTEND;TZID=Europe/Paris:20260525T190000
DTSTAMP:20260420T182125
CREATED:20251202T122650Z
LAST-MODIFIED:20251202T122650Z
UID:3738-1779724800-1779735600@www.autraouquet.fr
SUMMARY:Jeu d'échecs
DESCRIPTION:
URL:https://www.autraouquet.fr/event/jeu-dechecs/2026-05-25/
ORGANIZER;CN="Au%20Traouquet":MAILTO:autraouquet@gmail.com
END:VEVENT
BEGIN:VEVENT
DTSTART;TZID=Europe/Paris:20260601T160000
DTEND;TZID=Europe/Paris:20260601T190000
DTSTAMP:20260420T182125
CREATED:20251202T122650Z
LAST-MODIFIED:20251202T122650Z
UID:3739-1780329600-1780340400@www.autraouquet.fr
SUMMARY:Jeu d'échecs
DESCRIPTION:
URL:https://www.autraouquet.fr/event/jeu-dechecs/2026-06-01/
ORGANIZER;CN="Au%20Traouquet":MAILTO:autraouquet@gmail.com
END:VEVENT
BEGIN:VEVENT
DTSTART;TZID=Europe/Paris:20260608T160000
DTEND;TZID=Europe/Paris:20260608T190000
DTSTAMP:20260420T182125
CREATED:20251202T122650Z
LAST-MODIFIED:20251202T122650Z
UID:3740-1780934400-1780945200@www.autraouquet.fr
SUMMARY:Jeu d'échecs
DESCRIPTION:
URL:https://www.autraouquet.fr/event/jeu-dechecs/2026-06-08/
ORGANIZER;CN="Au%20Traouquet":MAILTO:autraouquet@gmail.com
END:VEVENT
BEGIN:VEVENT
DTSTART;TZID=Europe/Paris:20260615T160000
DTEND;TZID=Europe/Paris:20260615T190000
DTSTAMP:20260420T182125
CREATED:20251202T122650Z
LAST-MODIFIED:20251202T122650Z
UID:3741-1781539200-1781550000@www.autraouquet.fr
SUMMARY:Jeu d'échecs
DESCRIPTION:
URL:https://www.autraouquet.fr/event/jeu-dechecs/2026-06-15/
ORGANIZER;CN="Au%20Traouquet":MAILTO:autraouquet@gmail.com
END:VEVENT
BEGIN:VEVENT
DTSTART;TZID=Europe/Paris:20260622T160000
DTEND;TZID=Europe/Paris:20260622T190000
DTSTAMP:20260420T182125
CREATED:20251202T122650Z
LAST-MODIFIED:20251202T122650Z
UID:3742-1782144000-1782154800@www.autraouquet.fr
SUMMARY:Jeu d'échecs
DESCRIPTION:
URL:https://www.autraouquet.fr/event/jeu-dechecs/2026-06-22/
ORGANIZER;CN="Au%20Traouquet":MAILTO:autraouquet@gmail.com
END:VEVENT
BEGIN:VEVENT
DTSTART;TZID=Europe/Paris:20260629T160000
DTEND;TZID=Europe/Paris:20260629T190000
DTSTAMP:20260420T182125
CREATED:20251202T122650Z
LAST-MODIFIED:20251202T122650Z
UID:3743-1782748800-1782759600@www.autraouquet.fr
SUMMARY:Jeu d'échecs
DESCRIPTION:
URL:https://www.autraouquet.fr/event/jeu-dechecs/2026-06-29/
ORGANIZER;CN="Au%20Traouquet":MAILTO:autraouquet@gmail.com
END:VEVENT
BEGIN:VEVENT
DTSTART;TZID=Europe/Paris:20260706T160000
DTEND;TZID=Europe/Paris:20260706T190000
DTSTAMP:20260420T182125
CREATED:20251202T122650Z
LAST-MODIFIED:20251202T122650Z
UID:3744-1783353600-1783364400@www.autraouquet.fr
SUMMARY:Jeu d'échecs
DESCRIPTION:
URL:https://www.autraouquet.fr/event/jeu-dechecs/2026-07-06/
ORGANIZER;CN="Au%20Traouquet":MAILTO:autraouquet@gmail.com
END:VEVENT
BEGIN:VEVENT
DTSTART;TZID=Europe/Paris:20260713T160000
DTEND;TZID=Europe/Paris:20260713T190000
DTSTAMP:20260420T182125
CREATED:20251202T122650Z
LAST-MODIFIED:20251202T122650Z
UID:3745-1783958400-1783969200@www.autraouquet.fr
SUMMARY:Jeu d'échecs
DESCRIPTION:
URL:https://www.autraouquet.fr/event/jeu-dechecs/2026-07-13/
ORGANIZER;CN="Au%20Traouquet":MAILTO:autraouquet@gmail.com
END:VEVENT
BEGIN:VEVENT
DTSTART;TZID=Europe/Paris:20260720T160000
DTEND;TZID=Europe/Paris:20260720T190000
DTSTAMP:20260420T182125
CREATED:20251202T122650Z
LAST-MODIFIED:20251202T122650Z
UID:3746-1784563200-1784574000@www.autraouquet.fr
SUMMARY:Jeu d'échecs
DESCRIPTION:
URL:https://www.autraouquet.fr/event/jeu-dechecs/2026-07-20/
ORGANIZER;CN="Au%20Traouquet":MAILTO:autraouquet@gmail.com
END:VEVENT
BEGIN:VEVENT
DTSTART;TZID=Europe/Paris:20260727T160000
DTEND;TZID=Europe/Paris:20260727T190000
DTSTAMP:20260420T182125
CREATED:20251202T122650Z
LAST-MODIFIED:20251202T122650Z
UID:3747-1785168000-1785178800@www.autraouquet.fr
SUMMARY:Jeu d'échecs
DESCRIPTION:
URL:https://www.autraouquet.fr/event/jeu-dechecs/2026-07-27/
ORGANIZER;CN="Au%20Traouquet":MAILTO:autraouquet@gmail.com
END:VEVENT
BEGIN:VEVENT
DTSTART;TZID=Europe/Paris:20260803T160000
DTEND;TZID=Europe/Paris:20260803T190000
DTSTAMP:20260420T182125
CREATED:20251202T122650Z
LAST-MODIFIED:20251202T122650Z
UID:3748-1785772800-1785783600@www.autraouquet.fr
SUMMARY:Jeu d'échecs
DESCRIPTION:
URL:https://www.autraouquet.fr/event/jeu-dechecs/2026-08-03/
ORGANIZER;CN="Au%20Traouquet":MAILTO:autraouquet@gmail.com
END:VEVENT
BEGIN:VEVENT
DTSTART;TZID=Europe/Paris:20260810T160000
DTEND;TZID=Europe/Paris:20260810T190000
DTSTAMP:20260420T182125
CREATED:20251202T122650Z
LAST-MODIFIED:20251202T122650Z
UID:3749-1786377600-1786388400@www.autraouquet.fr
SUMMARY:Jeu d'échecs
DESCRIPTION:
URL:https://www.autraouquet.fr/event/jeu-dechecs/2026-08-10/
ORGANIZER;CN="Au%20Traouquet":MAILTO:autraouquet@gmail.com
END:VEVENT
BEGIN:VEVENT
DTSTART;TZID=Europe/Paris:20260817T160000
DTEND;TZID=Europe/Paris:20260817T190000
DTSTAMP:20260420T182125
CREATED:20251202T122650Z
LAST-MODIFIED:20251202T122650Z
UID:3750-1786982400-1786993200@www.autraouquet.fr
SUMMARY:Jeu d'échecs
DESCRIPTION:
URL:https://www.autraouquet.fr/event/jeu-dechecs/2026-08-17/
ORGANIZER;CN="Au%20Traouquet":MAILTO:autraouquet@gmail.com
END:VEVENT
BEGIN:VEVENT
DTSTART;TZID=Europe/Paris:20260824T160000
DTEND;TZID=Europe/Paris:20260824T190000
DTSTAMP:20260420T182125
CREATED:20251202T122650Z
LAST-MODIFIED:20251202T122650Z
UID:3751-1787587200-1787598000@www.autraouquet.fr
SUMMARY:Jeu d'échecs
DESCRIPTION:
URL:https://www.autraouquet.fr/event/jeu-dechecs/2026-08-24/
ORGANIZER;CN="Au%20Traouquet":MAILTO:autraouquet@gmail.com
END:VEVENT
BEGIN:VEVENT
DTSTART;TZID=Europe/Paris:20260831T160000
DTEND;TZID=Europe/Paris:20260831T190000
DTSTAMP:20260420T182125
CREATED:20251202T122650Z
LAST-MODIFIED:20251202T122650Z
UID:3752-1788192000-1788202800@www.autraouquet.fr
SUMMARY:Jeu d'échecs
DESCRIPTION:
URL:https://www.autraouquet.fr/event/jeu-dechecs/2026-08-31/
ORGANIZER;CN="Au%20Traouquet":MAILTO:autraouquet@gmail.com
END:VEVENT
BEGIN:VEVENT
DTSTART;TZID=Europe/Paris:20260907T160000
DTEND;TZID=Europe/Paris:20260907T190000
DTSTAMP:20260420T182125
CREATED:20251202T122650Z
LAST-MODIFIED:20251202T122650Z
UID:3753-1788796800-1788807600@www.autraouquet.fr
SUMMARY:Jeu d'échecs
DESCRIPTION:
URL:https://www.autraouquet.fr/event/jeu-dechecs/2026-09-07/
ORGANIZER;CN="Au%20Traouquet":MAILTO:autraouquet@gmail.com
END:VEVENT
BEGIN:VEVENT
DTSTART;TZID=Europe/Paris:20260914T160000
DTEND;TZID=Europe/Paris:20260914T190000
DTSTAMP:20260420T182125
CREATED:20251202T122650Z
LAST-MODIFIED:20251202T122650Z
UID:3754-1789401600-1789412400@www.autraouquet.fr
SUMMARY:Jeu d'échecs
DESCRIPTION:
URL:https://www.autraouquet.fr/event/jeu-dechecs/2026-09-14/
ORGANIZER;CN="Au%20Traouquet":MAILTO:autraouquet@gmail.com
END:VEVENT
BEGIN:VEVENT
DTSTART;TZID=Europe/Paris:20260921T160000
DTEND;TZID=Europe/Paris:20260921T190000
DTSTAMP:20260420T182125
CREATED:20251202T122650Z
LAST-MODIFIED:20251202T122650Z
UID:3755-1790006400-1790017200@www.autraouquet.fr
SUMMARY:Jeu d'échecs
DESCRIPTION:
URL:https://www.autraouquet.fr/event/jeu-dechecs/2026-09-21/
ORGANIZER;CN="Au%20Traouquet":MAILTO:autraouquet@gmail.com
END:VEVENT
BEGIN:VEVENT
DTSTART;TZID=Europe/Paris:20260928T160000
DTEND;TZID=Europe/Paris:20260928T190000
DTSTAMP:20260420T182125
CREATED:20251202T122650Z
LAST-MODIFIED:20251202T122650Z
UID:3756-1790611200-1790622000@www.autraouquet.fr
SUMMARY:Jeu d'échecs
DESCRIPTION:
URL:https://www.autraouquet.fr/event/jeu-dechecs/2026-09-28/
ORGANIZER;CN="Au%20Traouquet":MAILTO:autraouquet@gmail.com
END:VEVENT
BEGIN:VEVENT
DTSTART;TZID=Europe/Paris:20261005T160000
DTEND;TZID=Europe/Paris:20261005T190000
DTSTAMP:20260420T182125
CREATED:20251202T122650Z
LAST-MODIFIED:20251202T122650Z
UID:3757-1791216000-1791226800@www.autraouquet.fr
SUMMARY:Jeu d'échecs
DESCRIPTION:
URL:https://www.autraouquet.fr/event/jeu-dechecs/2026-10-05/
ORGANIZER;CN="Au%20Traouquet":MAILTO:autraouquet@gmail.com
END:VEVENT
BEGIN:VEVENT
DTSTART;TZID=Europe/Paris:20261012T160000
DTEND;TZID=Europe/Paris:20261012T190000
DTSTAMP:20260420T182125
CREATED:20251202T122650Z
LAST-MODIFIED:20251202T122650Z
UID:3758-1791820800-1791831600@www.autraouquet.fr
SUMMARY:Jeu d'échecs
DESCRIPTION:
URL:https://www.autraouquet.fr/event/jeu-dechecs/2026-10-12/
ORGANIZER;CN="Au%20Traouquet":MAILTO:autraouquet@gmail.com
END:VEVENT
BEGIN:VEVENT
DTSTART;TZID=Europe/Paris:20261019T160000
DTEND;TZID=Europe/Paris:20261019T190000
DTSTAMP:20260420T182125
CREATED:20251202T122650Z
LAST-MODIFIED:20251202T122650Z
UID:3759-1792425600-1792436400@www.autraouquet.fr
SUMMARY:Jeu d'échecs
DESCRIPTION:
URL:https://www.autraouquet.fr/event/jeu-dechecs/2026-10-19/
ORGANIZER;CN="Au%20Traouquet":MAILTO:autraouquet@gmail.com
END:VEVENT
BEGIN:VEVENT
DTSTART;TZID=Europe/Paris:20261026T160000
DTEND;TZID=Europe/Paris:20261026T190000
DTSTAMP:20260420T182125
CREATED:20251202T122650Z
LAST-MODIFIED:20251202T122650Z
UID:3760-1793030400-1793041200@www.autraouquet.fr
SUMMARY:Jeu d'échecs
DESCRIPTION:
URL:https://www.autraouquet.fr/event/jeu-dechecs/2026-10-26/
ORGANIZER;CN="Au%20Traouquet":MAILTO:autraouquet@gmail.com
END:VEVENT
BEGIN:VEVENT
DTSTART;TZID=Europe/Paris:20261102T160000
DTEND;TZID=Europe/Paris:20261102T190000
DTSTAMP:20260420T182125
CREATED:20251202T122650Z
LAST-MODIFIED:20251202T122650Z
UID:3761-1793635200-1793646000@www.autraouquet.fr
SUMMARY:Jeu d'échecs
DESCRIPTION:
URL:https://www.autraouquet.fr/event/jeu-dechecs/2026-11-02/
ORGANIZER;CN="Au%20Traouquet":MAILTO:autraouquet@gmail.com
END:VEVENT
BEGIN:VEVENT
DTSTART;TZID=Europe/Paris:20261109T160000
DTEND;TZID=Europe/Paris:20261109T190000
DTSTAMP:20260420T182125
CREATED:20251202T122650Z
LAST-MODIFIED:20251202T122650Z
UID:3762-1794240000-1794250800@www.autraouquet.fr
SUMMARY:Jeu d'échecs
DESCRIPTION:
URL:https://www.autraouquet.fr/event/jeu-dechecs/2026-11-09/
ORGANIZER;CN="Au%20Traouquet":MAILTO:autraouquet@gmail.com
END:VEVENT
END:VCALENDAR