BEGIN:VCALENDAR
VERSION:2.0
PRODID:-//Au Traouquet - ECPv5.14.1//NONSGML v1.0//EN
CALSCALE:GREGORIAN
METHOD:PUBLISH
X-WR-CALNAME:Au Traouquet
X-ORIGINAL-URL:https://www.autraouquet.fr
X-WR-CALDESC:Events for Au Traouquet
REFRESH-INTERVAL;VALUE=DURATION:PT1H
X-Robots-Tag:noindex
X-PUBLISHED-TTL:PT1H
BEGIN:VTIMEZONE
TZID:Europe/Paris
BEGIN:DAYLIGHT
TZOFFSETFROM:+0100
TZOFFSETTO:+0200
TZNAME:CEST
DTSTART:20260329T010000
END:DAYLIGHT
BEGIN:STANDARD
TZOFFSETFROM:+0200
TZOFFSETTO:+0100
TZNAME:CET
DTSTART:20261025T010000
END:STANDARD
END:VTIMEZONE
BEGIN:VEVENT
DTSTART;TZID=Europe/Paris:20260327T183000
DTEND;TZID=Europe/Paris:20260327T203000
DTSTAMP:20260419T232425
CREATED:20260325T162111Z
LAST-MODIFIED:20260325T162111Z
UID:4370-1774636200-1774643400@www.autraouquet.fr
SUMMARY:Apéro musical
DESCRIPTION:
URL:https://www.autraouquet.fr/event/apero-musical-2/
CATEGORIES:Activités,Evénement musical
END:VEVENT
END:VCALENDAR