BEGIN:VCALENDAR
VERSION:2.0
PRODID:-//Au Traouquet - ECPv5.14.1//NONSGML v1.0//EN
CALSCALE:GREGORIAN
METHOD:PUBLISH
X-WR-CALNAME:Au Traouquet
X-ORIGINAL-URL:https://www.autraouquet.fr
X-WR-CALDESC:Events for Au Traouquet
REFRESH-INTERVAL;VALUE=DURATION:PT1H
X-Robots-Tag:noindex
X-PUBLISHED-TTL:PT1H
BEGIN:VTIMEZONE
TZID:Europe/Paris
BEGIN:DAYLIGHT
TZOFFSETFROM:+0100
TZOFFSETTO:+0200
TZNAME:CEST
DTSTART:20220327T010000
END:DAYLIGHT
BEGIN:STANDARD
TZOFFSETFROM:+0200
TZOFFSETTO:+0100
TZNAME:CET
DTSTART:20221030T010000
END:STANDARD
END:VTIMEZONE
BEGIN:VEVENT
DTSTART;TZID=Europe/Paris:20221130T193557
DTEND;TZID=Europe/Paris:20221130T193557
DTSTAMP:20260419T232748
CREATED:20221130T193228Z
LAST-MODIFIED:20221130T193557Z
UID:1573-1669836957-1669836957@www.autraouquet.fr
SUMMARY:Léonie Madame Hérisson raconte…
DESCRIPTION:
URL:https://www.autraouquet.fr/event/leonie-madame-herisson-raconte/2022-11-30/
CATEGORIES:Activités,Exposition,Spectacle
ORGANIZER;CN="Au%20Traouquet":MAILTO:autraouquet@gmail.com
END:VEVENT
BEGIN:VEVENT
DTSTART;TZID=Europe/Paris:20221126T183000
DTEND;TZID=Europe/Paris:20221126T220000
DTSTAMP:20260419T232748
CREATED:20221108T163927Z
LAST-MODIFIED:20221108T170716Z
UID:1496-1669487400-1669500000@www.autraouquet.fr
SUMMARY:Poésie !
DESCRIPTION:
URL:https://www.autraouquet.fr/event/poesie-au-traouquet/
CATEGORIES:Activités,Spectacle
ORGANIZER;CN="Au%20Traouquet":MAILTO:autraouquet@gmail.com
END:VEVENT
BEGIN:VEVENT
DTSTART;TZID=Europe/Paris:20221115T093000
DTEND;TZID=Europe/Paris:20221115T120000
DTSTAMP:20260419T232748
CREATED:20221114T171255Z
LAST-MODIFIED:20221114T171255Z
UID:1522-1668504600-1668513600@www.autraouquet.fr
SUMMARY:Balade au Traouquet
DESCRIPTION:
URL:https://www.autraouquet.fr/event/balade-au-traouquet/
CATEGORIES:Activités,Balade du mardi
ORGANIZER;CN="Au%20Traouquet":MAILTO:autraouquet@gmail.com
END:VEVENT
BEGIN:VEVENT
DTSTART;TZID=Europe/Paris:20221104T180000
DTEND;TZID=Europe/Paris:20221104T200000
DTSTAMP:20260419T232748
CREATED:20221026T185544Z
LAST-MODIFIED:20221108T151001Z
UID:1478-1667584800-1667592000@www.autraouquet.fr
SUMMARY:Michelle Fabre : vernissage de l'exposition
DESCRIPTION:Le Traouquet est  ravi d’accueillir la première exposition de Michelle Fabre qui présente ses aquarelles. \nUn travail délicat auquel a été sensible un public venu nombreux au vernissage du 4 novembre. \nExposition à voir jusqu’au 2 décembre. \n \n  \nRetrouvez l’exposition de Michelle Fabre aux heures d’ouverture de l’épicerie-café : https://www.autraouquet.fr/contact/ \n 
URL:https://www.autraouquet.fr/event/michelle-fabre-vernissage-de-lexposition/
LOCATION:Au Traouquet\, Place de l‘église\, Aulas\, 30120
CATEGORIES:Activités,Exposition,Vernissage
ORGANIZER;CN="Au%20Traouquet":MAILTO:autraouquet@gmail.com
END:VEVENT
BEGIN:VEVENT
DTSTART;TZID=Europe/Paris:20221030T090000
DTEND;TZID=Europe/Paris:20221030T140000
DTSTAMP:20260419T232748
CREATED:20220926T090041Z
LAST-MODIFIED:20221017T155839Z
UID:1430-1667120400-1667138400@www.autraouquet.fr
SUMMARY:Vide grenier
DESCRIPTION:En raison de la pluie le vide-grenier reporté au\ndimanche 30 octobre !\n \n 
URL:https://www.autraouquet.fr/event/vide-grenier/
LOCATION:Aulas\, Aulas\, 30120
CATEGORIES:Activités,Ventes et Brocantes
ORGANIZER;CN="Au%20Traouquet":MAILTO:autraouquet@gmail.com
END:VEVENT
BEGIN:VEVENT
DTSTART;TZID=Europe/Paris:20221025T093000
DTEND;TZID=Europe/Paris:20221025T120000
DTSTAMP:20260419T232748
CREATED:20221022T232128Z
LAST-MODIFIED:20221022T232630Z
UID:1465-1666690200-1666699200@www.autraouquet.fr
SUMMARY:Balade du Traouquet
DESCRIPTION:
URL:https://www.autraouquet.fr/event/1465/
CATEGORIES:Activités,Balade du mardi
ORGANIZER;CN="Au%20Traouquet":MAILTO:autraouquet@gmail.com
END:VEVENT
BEGIN:VEVENT
DTSTART;TZID=Europe/Paris:20221011T093000
DTEND;TZID=Europe/Paris:20221011T120000
DTSTAMP:20260419T232748
CREATED:20221005T200550Z
LAST-MODIFIED:20221005T200550Z
UID:1447-1665480600-1665489600@www.autraouquet.fr
SUMMARY:Balade du Traouquet
DESCRIPTION:
URL:https://www.autraouquet.fr/event/balade-du-traouquet-2/
LOCATION:Au Traouquet\, Place de l‘église\, Aulas\, 30120
CATEGORIES:Activités,Balade du mardi
ORGANIZER;CN="Au%20Traouquet":MAILTO:autraouquet@gmail.com
END:VEVENT
BEGIN:VEVENT
DTSTART;TZID=Europe/Paris:20221009T150000
DTEND;TZID=Europe/Paris:20221009T190000
DTSTAMP:20260419T232748
CREATED:20220929T221659Z
LAST-MODIFIED:20220929T221659Z
UID:1443-1665327600-1665342000@www.autraouquet.fr
SUMMARY:Concours de belote
DESCRIPTION:Dimanche 9 octobre à 15h00 \nInscription à partir du 3/09\nauprès de Michèle\nSms : 06 87 48 65 89 \n\nPour vous entraîner\nMardi et Jeudi après-midis
URL:https://www.autraouquet.fr/event/concours-de-belote/
CATEGORIES:Activités,Club de l'association
ORGANIZER;CN="Au%20Traouquet":MAILTO:autraouquet@gmail.com
END:VEVENT
BEGIN:VEVENT
DTSTART;TZID=Europe/Paris:20220929T100000
DTEND;TZID=Europe/Paris:20220929T120000
DTSTAMP:20260419T232748
CREATED:20220926T085544Z
LAST-MODIFIED:20220926T085544Z
UID:1427-1664445600-1664452800@www.autraouquet.fr
SUMMARY:Visite guidée - Bienvenue à Aulas
DESCRIPTION:
URL:https://www.autraouquet.fr/event/visite-guidee-bienvenue-a-aulas/
CATEGORIES:Activités
ORGANIZER;CN="Au%20Traouquet":MAILTO:autraouquet@gmail.com
END:VEVENT
BEGIN:VEVENT
DTSTART;TZID=Europe/Paris:20220927T090000
DTEND;TZID=Europe/Paris:20220927T120000
DTSTAMP:20260419T232748
CREATED:20220926T085139Z
LAST-MODIFIED:20220926T090450Z
UID:1423-1664269200-1664280000@www.autraouquet.fr
SUMMARY:Balade du Traouquet - Le chemin des Viaducs
DESCRIPTION:
URL:https://www.autraouquet.fr/event/balade-du-traouquet-le-chemin-des-viaducs/
CATEGORIES:Activités,Balade du mardi
END:VEVENT
BEGIN:VEVENT
DTSTART;TZID=Europe/Paris:20220916T183000
DTEND;TZID=Europe/Paris:20221014T190000
DTSTAMP:20260419T232748
CREATED:20220827T220836Z
LAST-MODIFIED:20220827T220836Z
UID:1410-1663353000-1665774000@www.autraouquet.fr
SUMMARY:Exposition Ceci Rivera Vera
DESCRIPTION:
URL:https://www.autraouquet.fr/event/exposition-ceci-rivera-vera/
CATEGORIES:Activités,Exposition
ORGANIZER;CN="Au%20Traouquet":MAILTO:autraouquet@gmail.com
END:VEVENT
BEGIN:VEVENT
DTSTART;TZID=Europe/Paris:20220809T190000
DTEND;TZID=Europe/Paris:20220809T233000
DTSTAMP:20260419T232748
CREATED:20220808T155801Z
LAST-MODIFIED:20220808T155823Z
UID:1386-1660071600-1660087800@www.autraouquet.fr
SUMMARY:Soirée Latino
DESCRIPTION:
URL:https://www.autraouquet.fr/event/soiree-latino/
CATEGORIES:Activités,Spectacle
END:VEVENT
BEGIN:VEVENT
DTSTART;TZID=Europe/Paris:20220713T170000
DTEND;TZID=Europe/Paris:20220713T230000
DTSTAMP:20260419T232748
CREATED:20220530T151909Z
LAST-MODIFIED:20220715T201618Z
UID:837-1657731600-1657753200@www.autraouquet.fr
SUMMARY:Festivités du 13 juillet
DESCRIPTION:Karaoké\, apéro dansant\, feu d’artifice\, bal \n \nLe spectacle pyrotechnique n’était pas au rendez-vous des festivités du 13 juillet 2022 à Aulas. \nMais\, c’est un autre spectacle qu’ont assuré les participants au karaoké et au bal\, à l’invitation du Traouquet. \nIls ont su répondre avec enthousiasme aux sollicitations de Mimi l’animatrice de la soirée. De la chanson à la danse\, il n’y a qu’un pas. Franchi allégrement sans pause musicale. \nDe nombreux danseurs n’ont pas entendu les douze coups de minuit qui mettaient fin au bal et marquaient le point d’orgue de la soirée. \n 
URL:https://www.autraouquet.fr/event/festivites-du-13-juillet/
LOCATION:Devant le Traouquet\, Place de l‘église\, Aulas\, 30120\, France
CATEGORIES:Activités
ORGANIZER;CN="Au%20Traouquet":MAILTO:autraouquet@gmail.com
END:VEVENT
BEGIN:VEVENT
DTSTART;TZID=Europe/Paris:20220618T170000
DTEND;TZID=Europe/Paris:20220618T220000
DTSTAMP:20260419T232748
CREATED:20220530T150441Z
LAST-MODIFIED:20220530T150441Z
UID:831-1655571600-1655589600@www.autraouquet.fr
SUMMARY:Faites de la musique
DESCRIPTION:  \n  \n 
URL:https://www.autraouquet.fr/event/faites-de-la-musique/
LOCATION:Devant le Traouquet\, Place de l‘église\, Aulas\, 30120\, France
CATEGORIES:Activités
ATTACH;FMTTYPE=image/png:https://www.autraouquet.fr/wp-content/uploads/2022/05/faite-musique.png
ORGANIZER;CN="Au%20Traouquet":MAILTO:autraouquet@gmail.com
END:VEVENT
BEGIN:VEVENT
DTSTART;TZID=Europe/Paris:20220405T093000
DTEND;TZID=Europe/Paris:20220405T123000
DTSTAMP:20260419T232748
CREATED:20220330T162835Z
LAST-MODIFIED:20220401T124725Z
UID:611-1649151000-1649161800@www.autraouquet.fr
SUMMARY:Balade du Traouquet - Les Cascades
DESCRIPTION:Aumessas – Les Cascades\nRendez vous dès 9h30 au Traouquet \nCovoiturage 🚙 \nInscriptions ci-dessous\, ou au Traouquet \nBob : 06 26 68 88 24 \nDeux  🥾🥾 !!\nAnnulation en cas de pluie
URL:https://www.autraouquet.fr/event/balade-du-traouquet-les-cascades/
LOCATION:Devant le Traouquet\, Place de l‘église\, Aulas\, 30120\, France
CATEGORIES:Sortie Nature
ATTACH;FMTTYPE=image/png:https://www.autraouquet.fr/wp-content/uploads/2022/04/277529493_395432865758006_7633824647273735000_n.png
ORGANIZER;CN="Au%20Traouquet":MAILTO:autraouquet@gmail.com
END:VEVENT
BEGIN:VEVENT
DTSTART;TZID=Europe/Paris:20220327T090000
DTEND;TZID=Europe/Paris:20220327T140000
DTSTAMP:20260419T232748
CREATED:20220323T100727Z
LAST-MODIFIED:20220325T070512Z
UID:116-1648371600-1648389600@www.autraouquet.fr
SUMMARY:Vide-grenier de printemps
DESCRIPTION:Le printemps arrive\, il est temps de débarrasser les greniers ! \nVenez profiter des affaires et des dégustations sur place toute la matinée de dimanche\, en famille et avec vos ami.e.s.
URL:https://www.autraouquet.fr/event/vide-grenier-de-printemps/
LOCATION:Devant le Traouquet\, Place de l‘église\, Aulas\, 30120\, France
CATEGORIES:Exposant,Ventes et Brocantes
ATTACH;FMTTYPE=image/jpeg:https://www.autraouquet.fr/wp-content/uploads/2022/03/slide2.jpeg
ORGANIZER;CN="Au%20Traouquet":MAILTO:autraouquet@gmail.com
END:VEVENT
BEGIN:VEVENT
DTSTART;TZID=Europe/Paris:20220322T093000
DTEND;TZID=Europe/Paris:20220322T170000
DTSTAMP:20260419T232748
CREATED:20220323T122355Z
LAST-MODIFIED:20220323T144825Z
UID:142-1647941400-1647968400@www.autraouquet.fr
SUMMARY:Balade-nature du Traouquet
DESCRIPTION:
URL:https://www.autraouquet.fr/event/balade-nature-du-traouquet/
LOCATION:Devant le Traouquet\, Place de l‘église\, Aulas\, 30120\, France
CATEGORIES:Sortie Nature
ATTACH;FMTTYPE=image/jpeg:https://www.autraouquet.fr/wp-content/uploads/2022/03/249655965_301175935183700_7501028547288863975_n.jpeg
END:VEVENT
END:VCALENDAR