BEGIN:VCALENDAR
VERSION:2.0
PRODID:-//Au Traouquet - ECPv5.14.1//NONSGML v1.0//EN
CALSCALE:GREGORIAN
METHOD:PUBLISH
X-WR-CALNAME:Au Traouquet
X-ORIGINAL-URL:https://www.autraouquet.fr
X-WR-CALDESC:Events for Au Traouquet
REFRESH-INTERVAL;VALUE=DURATION:PT1H
X-Robots-Tag:noindex
X-PUBLISHED-TTL:PT1H
BEGIN:VTIMEZONE
TZID:Europe/Paris
BEGIN:DAYLIGHT
TZOFFSETFROM:+0100
TZOFFSETTO:+0200
TZNAME:CEST
DTSTART:20230326T010000
END:DAYLIGHT
BEGIN:STANDARD
TZOFFSETFROM:+0200
TZOFFSETTO:+0100
TZNAME:CET
DTSTART:20231029T010000
END:STANDARD
END:VTIMEZONE
BEGIN:VEVENT
DTSTART;TZID=Europe/Paris:20231210T100000
DTEND;TZID=Europe/Paris:20231210T160000
DTSTAMP:20260424T021946
CREATED:20231102T130005Z
LAST-MODIFIED:20231102T130005Z
UID:2065-1702202400-1702224000@www.autraouquet.fr
SUMMARY:Marché de Noël et bourse aux jouets
DESCRIPTION:
URL:https://www.autraouquet.fr/event/marche-de-noel-et-bourse-aux-jouets/
CATEGORIES:Activités,Exposant
ORGANIZER;CN="Au%20Traouquet":MAILTO:autraouquet@gmail.com
END:VEVENT
END:VCALENDAR