BEGIN:VCALENDAR
VERSION:2.0
PRODID:-//Au Traouquet - ECPv5.14.1//NONSGML v1.0//EN
CALSCALE:GREGORIAN
METHOD:PUBLISH
X-WR-CALNAME:Au Traouquet
X-ORIGINAL-URL:https://www.autraouquet.fr
X-WR-CALDESC:Events for Au Traouquet
REFRESH-INTERVAL;VALUE=DURATION:PT1H
X-Robots-Tag:noindex
X-PUBLISHED-TTL:PT1H
BEGIN:VTIMEZONE
TZID:Europe/Paris
BEGIN:DAYLIGHT
TZOFFSETFROM:+0100
TZOFFSETTO:+0200
TZNAME:CEST
DTSTART:20230326T010000
END:DAYLIGHT
BEGIN:STANDARD
TZOFFSETFROM:+0200
TZOFFSETTO:+0100
TZNAME:CET
DTSTART:20231029T010000
END:STANDARD
END:VTIMEZONE
BEGIN:VEVENT
DTSTART;TZID=Europe/Paris:20230223T180000
DTEND;TZID=Europe/Paris:20230223T190000
DTSTAMP:20260424T153808
CREATED:20230131T150442Z
LAST-MODIFIED:20230131T150454Z
UID:1720-1677175200-1677178800@www.autraouquet.fr
SUMMARY:Vernissage de l'exposition linogravures
DESCRIPTION:
URL:https://www.autraouquet.fr/event/vernissage-de-lexposition-linogravures/
CATEGORIES:Activités,Exposition
END:VEVENT
END:VCALENDAR