BEGIN:VCALENDAR
VERSION:2.0
PRODID:-//Au Traouquet - ECPv5.14.1//NONSGML v1.0//EN
CALSCALE:GREGORIAN
METHOD:PUBLISH
X-WR-CALNAME:Au Traouquet
X-ORIGINAL-URL:https://www.autraouquet.fr
X-WR-CALDESC:Events for Au Traouquet
REFRESH-INTERVAL;VALUE=DURATION:PT1H
X-Robots-Tag:noindex
X-PUBLISHED-TTL:PT1H
BEGIN:VTIMEZONE
TZID:Europe/Paris
BEGIN:DAYLIGHT
TZOFFSETFROM:+0100
TZOFFSETTO:+0200
TZNAME:CEST
DTSTART:20220327T010000
END:DAYLIGHT
BEGIN:STANDARD
TZOFFSETFROM:+0200
TZOFFSETTO:+0100
TZNAME:CET
DTSTART:20221030T010000
END:STANDARD
END:VTIMEZONE
BEGIN:VEVENT
DTSTART;TZID=Europe/Paris:20221230T163000
DTEND;TZID=Europe/Paris:20221230T171500
DTSTAMP:20260424T172445
CREATED:20221130T193228Z
LAST-MODIFIED:20221130T194804Z
UID:1589-1672417800-1672420500@www.autraouquet.fr
SUMMARY:Léonie Madame Hérisson raconte…
DESCRIPTION:
URL:https://www.autraouquet.fr/event/leonie-madame-herisson-raconte-2022-12-30/
CATEGORIES:Activités,Exposition,Spectacle
ORGANIZER;CN="Au%20Traouquet":MAILTO:autraouquet@gmail.com
END:VEVENT
BEGIN:VEVENT
DTSTART;TZID=Europe/Paris:20221230T171500
DTEND;TZID=Europe/Paris:20221230T180000
DTSTAMP:20260424T172445
CREATED:20221130T193228Z
LAST-MODIFIED:20221130T194427Z
UID:1590-1672420500-1672423200@www.autraouquet.fr
SUMMARY:Léonie Madame Hérisson raconte…
DESCRIPTION:
URL:https://www.autraouquet.fr/event/leonie-madame-herisson-raconte-2022-12-30-2/
CATEGORIES:Activités,Exposition,Spectacle
ORGANIZER;CN="Au%20Traouquet":MAILTO:autraouquet@gmail.com
END:VEVENT
END:VCALENDAR