BEGIN:VCALENDAR
VERSION:2.0
PRODID:-//Au Traouquet - ECPv5.14.1//NONSGML v1.0//EN
CALSCALE:GREGORIAN
METHOD:PUBLISH
X-WR-CALNAME:Au Traouquet
X-ORIGINAL-URL:https://www.autraouquet.fr
X-WR-CALDESC:Events for Au Traouquet
REFRESH-INTERVAL;VALUE=DURATION:PT1H
X-Robots-Tag:noindex
X-PUBLISHED-TTL:PT1H
BEGIN:VTIMEZONE
TZID:Europe/Paris
BEGIN:DAYLIGHT
TZOFFSETFROM:+0100
TZOFFSETTO:+0200
TZNAME:CEST
DTSTART:20230326T010000
END:DAYLIGHT
BEGIN:STANDARD
TZOFFSETFROM:+0200
TZOFFSETTO:+0100
TZNAME:CET
DTSTART:20231029T010000
END:STANDARD
END:VTIMEZONE
BEGIN:VEVENT
DTSTART;TZID=Europe/Paris:20231109T180000
DTEND;TZID=Europe/Paris:20231109T200000
DTSTAMP:20260423T213541
CREATED:20231102T130018Z
LAST-MODIFIED:20231102T130106Z
UID:2063-1699552800-1699560000@www.autraouquet.fr
SUMMARY:Vernissage exposition de Patou
DESCRIPTION:
URL:https://www.autraouquet.fr/event/vernissage-exposition-de-patou/
CATEGORIES:Activités,Exposition
ORGANIZER;CN="Au%20Traouquet":MAILTO:autraouquet@gmail.com
END:VEVENT
END:VCALENDAR