BEGIN:VCALENDAR
VERSION:2.0
PRODID:-//Au Traouquet - ECPv5.14.1//NONSGML v1.0//EN
CALSCALE:GREGORIAN
METHOD:PUBLISH
X-WR-CALNAME:Au Traouquet
X-ORIGINAL-URL:https://www.autraouquet.fr
X-WR-CALDESC:Events for Au Traouquet
REFRESH-INTERVAL;VALUE=DURATION:PT1H
X-Robots-Tag:noindex
X-PUBLISHED-TTL:PT1H
BEGIN:VTIMEZONE
TZID:Europe/Paris
BEGIN:DAYLIGHT
TZOFFSETFROM:+0100
TZOFFSETTO:+0200
TZNAME:CEST
DTSTART:20220327T010000
END:DAYLIGHT
BEGIN:STANDARD
TZOFFSETFROM:+0200
TZOFFSETTO:+0100
TZNAME:CET
DTSTART:20221030T010000
END:STANDARD
END:VTIMEZONE
BEGIN:VEVENT
DTSTART;TZID=Europe/Paris:20220603T180000
DTEND;TZID=Europe/Paris:20220701T203000
DTSTAMP:20260425T010826
CREATED:20220608T160228Z
LAST-MODIFIED:20220608T160433Z
UID:858-1654279200-1656707400@www.autraouquet.fr
SUMMARY:Exposition Aurélie Bras
DESCRIPTION:Après Pierre Nègre\, le visiteur découvrira un nouvel univers artistique avec l’exposition d’Aurélie Bras qui prend ses quartiers tout le mois de juin au Traouquet. \nA l’encre\, la peinture ou les pastels\, Aurélie Bras travaille le papier\, le film plastique ou encore le métal. L’exposition présentée ici est un carnet de voyage plastique débuté au Caire en Égypte et poursuivi dans les Cévennes. \nC’est avec curiosité que le visiteur découvre les productions qui retracent ce parcours et l’invitent à plonger dans « l’univers de LIA » en se laissant porter par le trait. \nL’artiste sera présente tous les mercredis après-midi du mois de juin aux heures d’ouverture du Traouquet.  Exposition à voir Au Traouquet\, Place de l’Eglise à Aulas jusqu’au 1er juillet. \nEntrée libre et gratuite.
URL:https://www.autraouquet.fr/event/exposition-aurelie-bras/
CATEGORIES:Exposition
ATTACH;FMTTYPE=image/jpeg:https://www.autraouquet.fr/wp-content/uploads/2022/05/IMG_0062.jpg
END:VEVENT
BEGIN:VEVENT
DTSTART;TZID=Europe/Paris:20220710T160000
DTEND;TZID=Europe/Paris:20220731T190000
DTSTAMP:20260425T010826
CREATED:20220711T165315Z
LAST-MODIFIED:20220711T165315Z
UID:1012-1657468800-1659294000@www.autraouquet.fr
SUMMARY:Exposition Fabienne Astier
DESCRIPTION:Exposition à visiter aux heures d’ouverture du Traouquet. \n 
URL:https://www.autraouquet.fr/event/exposition-fabienne-astier/
CATEGORIES:Exposition
ORGANIZER;CN="Au%20Traouquet":MAILTO:autraouquet@gmail.com
END:VEVENT
END:VCALENDAR